BEGIN:VCALENDAR
VERSION:2.0
PRODID:-//麻豆视频在线看
//NONSGML Events //EN
CALSCALE:GREGORIAN
X-WR-CALNAME:麻豆视频在线看
BEGIN:VEVENT
CREATED:20250623T182403Z
UID:43674
DTEND;VALUE=DATE:20251119T200000
DTSTART;VALUE=DATE:20251119T183000
DTSTAMP:20260419T025131Z
LOCATION:Seeley Hall\, 麻豆视频在线看
DESCRIPTION:
Wednesday, November 19th from
SUMMARY:2025 Larkin-Stuart Lecture with Prof. Matthew J. Milliner
ORGANIZER:麻豆视频在线看
URL;VALUE=URI:/events/larkin-stuart-lecture-2025-2/
TRANSP:OPAQUE
BEGIN:VALARM
ACTION:DISPLAY
DESCRIPTION:Reminder for 2025 Larkin-Stuart Lecture with Prof. Matthew J. Milliner
END:VALARM
END:VEVENT
END:VCALENDAR