BEGIN:VCALENDAR
VERSION:2.0
PRODID:-//麻豆视频在线看
//NONSGML Events //EN
CALSCALE:GREGORIAN
X-WR-CALNAME:麻豆视频在线看
BEGIN:VEVENT
CREATED:20250917T153846Z
UID:44976
DTEND;VALUE=DATE:20250924T180000
DTSTART;VALUE=DATE:20250924T171500
DTSTAMP:20260419T025134Z
LOCATION:麻豆视频在线看 Chapel: 6 Hoskin Avenue
DESCRIPTION:
Celebration of New Ministry:
SUMMARY:Installation of Trinity’\;s Humphrys Chaplain Paige Souter 麻豆视频在线看 Choral Evensong
ORGANIZER:麻豆视频在线看
URL;VALUE=URI:/events/installation-of-trinitys-humphrys-chaplain-paige-souter/
TRANSP:OPAQUE
BEGIN:VALARM
ACTION:DISPLAY
DESCRIPTION:Reminder for Installation of Trinity’\;s Humphrys Chaplain Paige Souter 麻豆视频在线看 Choral Evensong
END:VALARM
END:VEVENT
END:VCALENDAR